BEGIN:VCALENDAR
VERSION:2.0
PRODID:-//The Spirit of Pine Valley - ECPv6.15.20//NONSGML v1.0//EN
CALSCALE:GREGORIAN
METHOD:PUBLISH
X-WR-CALNAME:The Spirit of Pine Valley
X-ORIGINAL-URL:https://pinevalleysedona.com
X-WR-CALDESC:Events for The Spirit of Pine Valley
REFRESH-INTERVAL;VALUE=DURATION:PT1H
X-Robots-Tag:noindex
X-PUBLISHED-TTL:PT1H
BEGIN:VTIMEZONE
TZID:UTC
BEGIN:STANDARD
TZOFFSETFROM:+0000
TZOFFSETTO:+0000
TZNAME:UTC
DTSTART:20190101T000000
END:STANDARD
END:VTIMEZONE
BEGIN:VEVENT
DTSTART;TZID=UTC:20260328T090000
DTEND;TZID=UTC:20260328T110000
DTSTAMP:20260425T190028
CREATED:20260123T183623Z
LAST-MODIFIED:20260213T011333Z
UID:5008-1774688400-1774695600@pinevalleysedona.com
SUMMARY:9AM - Pine Valley Neighbors Meeting
DESCRIPTION:
URL:https://pinevalleysedona.com/event/pine-valley-neighbors-meeting/
LOCATION:Diana Judson’s house\, 15 Bobcat\, Pine Valley\, YAV\, 86351
CATEGORIES:Events
END:VEVENT
BEGIN:VEVENT
DTSTART;VALUE=DATE:20260214
DTEND;VALUE=DATE:20260215
DTSTAMP:20260425T190028
CREATED:20251217T212840Z
LAST-MODIFIED:20260124T201447Z
UID:5005-1771027200-1771113599@pinevalleysedona.com
SUMMARY:9AM - Green Bag Pickup on Valentine's Day!
DESCRIPTION:Hello\, everyone.  Our next Green Bag pick up is on  Saturday\, February 14.  We will start the pick up at 9:00 am. If you will not be available\, please let me know.  I am happy to pick up your bag early or you can leave it on my porch (220 Wild Flower Circle) if that works better for you. \n\nThank you as always.\n\nJackie Barbour\nGreen Bag Neighborhood Coordinator\nPine Valley\n(301) 639-8439\nhttps://www.verdevalleyfoodproject.org/\n\n  \n 
URL:https://pinevalleysedona.com/event/green-bag-pickup-on-valentines-day/
LOCATION:YAV
CATEGORIES:Events
ORGANIZER;CN="Jackie Barbour":MAILTO:jbarbour55@gmail.com
END:VEVENT
BEGIN:VEVENT
DTSTART;TZID=UTC:20251213T090000
DTEND;TZID=UTC:20251213T110000
DTSTAMP:20260425T190028
CREATED:20251217T210348Z
LAST-MODIFIED:20251217T210348Z
UID:4997-1765616400-1765623600@pinevalleysedona.com
SUMMARY:Green Bag Pickup
DESCRIPTION:
URL:https://pinevalleysedona.com/event/green-bag-pickup-3/
LOCATION:YAV
END:VEVENT
BEGIN:VEVENT
DTSTART;TZID=UTC:20251004T160000
DTEND;TZID=UTC:20251004T180000
DTSTAMP:20260425T190028
CREATED:20250721T000142Z
LAST-MODIFIED:20250721T000225Z
UID:4976-1759593600-1759600800@pinevalleysedona.com
SUMMARY:Pine Valley Neighbors Fall Party!
DESCRIPTION:PVN FALL PARTY: \nWHEN:  SATURDAY OCTOBER 4\,  2025 \nTIME:  4-6PM\nWHERE:  15 BOBCAT CT \nYou will get another email on this in September. This is just a heads up for you. \nBring a side dish to share.    PVN will provide hotdogs\, burgers and softdrinks.  Come meet your neighbors!  This is open to ALL Pine Valley residents.  So\, if you know a neighbor who is NOT a member of PVN\, please feel free to invite them.. maybe they might join!  A member suggested an annual Pine Valley garden tour to give residents gardening & design ideas. We should discuss this further at the party. It really sounded like a fun idea!
URL:https://pinevalleysedona.com/event/pine-valley-neighbors-fall-party/
LOCATION:Diana Judson’s house\, 15 Bobcat\, Pine Valley\, YAV\, 86351
END:VEVENT
BEGIN:VEVENT
DTSTART;TZID=UTC:20250809T090000
DTEND;TZID=UTC:20250809T103000
DTSTAMP:20260425T190028
CREATED:20250729T000517Z
LAST-MODIFIED:20250729T001201Z
UID:4990-1754730000-1754735400@pinevalleysedona.com
SUMMARY:Green Bag Pick Up
DESCRIPTION:Hello\, everyone!  Our next Green Bag Pick Up is Saturday\, August 9th\, starting at 9:00 am. \nIf you will not be available\, please let me know.  I can pick up bags earlier\, and you can also drop them at my house.\n\nThank you!\n\nJackie Barbour\nGreen Bag Neighborhood Coordinator\nPine Valley\n(301) 639-8439
URL:https://pinevalleysedona.com/event/next-green-bag-pick-up-august-9th/
LOCATION:Pine Valley Neighbors\, AZ\, United States
ORGANIZER;CN="Jackie Barbour":MAILTO:jbarbour55@gmail.com
END:VEVENT
BEGIN:VEVENT
DTSTART;TZID=UTC:20250628T100000
DTEND;TZID=UTC:20250628T113000
DTSTAMP:20260425T190028
CREATED:20250514T233552Z
LAST-MODIFIED:20250514T234555Z
UID:4966-1751104800-1751110200@pinevalleysedona.com
SUMMARY:Pine Valley Neighbors Board Meeting - 10AM
DESCRIPTION:
URL:https://pinevalleysedona.com/event/pine-valley-neighbors-board-meeting-10am/
LOCATION:Diana Judson’s house\, 15 Bobcat\, Pine Valley\, YAV\, 86351
END:VEVENT
BEGIN:VEVENT
DTSTART;TZID=UTC:20250614T090000
DTEND;TZID=UTC:20250614T110000
DTSTAMP:20260425T190028
CREATED:20250514T234500Z
LAST-MODIFIED:20250514T234732Z
UID:4970-1749891600-1749898800@pinevalleysedona.com
SUMMARY:Green Bag Pickup
DESCRIPTION:Hello\, everyone.  Linda Lukas will fill in for me for the June 14th Green Bag collection.  Pick up will begin at 9:00 am.  If you will not have a bag available for pick up\, please let me know as soon as possible so I can update Linda. \n\nI haven’t received any special requests.  The usual items that are most desired are proteins (especially fish\, chicken\, or beef)\, cat food\, small dog food\, seasonings/condiments\, and children’s snacks.  Kids will be home for the summer\, and feeding them is a non-stop activity\n\nPlease let me know if you have any questions.\n\n\nThank you for all you do to feed our community.\n\n\nJackie Barbour\nGreen Bag Neighborhood Coordinator\nPine Valley\n(301) 639-8439
URL:https://pinevalleysedona.com/event/green-bag-pickup-2/
LOCATION:YAV
ORGANIZER;CN="Jackie Barbour":MAILTO:jbarbour55@gmail.com
END:VEVENT
BEGIN:VEVENT
DTSTART;VALUE=DATE:20250412
DTEND;VALUE=DATE:20250413
DTSTAMP:20260425T190028
CREATED:20250317T190613Z
LAST-MODIFIED:20250317T194756Z
UID:4956-1744416000-1744502399@pinevalleysedona.com
SUMMARY:Green Bag Pickup - 9AM
DESCRIPTION:Hello\, everyone.  Spring is around the corner and I was thrilled to welcome it with a last-minute snow storm.  My plants are much happier and ready to commit to growing.  I’m sorry if anyone has peach trees that may not blossom this year : ( \n\nOur next Green Bag pick up will be in 3 weeks – April 12th.  I will start the pick up at 9:00 am.\n\nIf you will not be available\, or if you would like to drop off your Green Bag or have me pick it up from you early\, please send me an email.  You can also text me at (301) 639-8439.\n\nAs always\, the need is for canned proteins (tinned fish and chicken are always in demand).  Healthy kid snacks are also appreciated.  I will let you know if we get any special requests.\n\nEnjoy the humidity while it lasts : )\n\nJackie\n\nGreen Bag Neighborhood Coordinator\n(301) 639-843\n\n\nPartnering with Manzanita Outreach
URL:https://pinevalleysedona.com/event/green-bag-pickup-april-12/
LOCATION:YAV
CATEGORIES:Events
ORGANIZER;CN="Jackie Barbour":MAILTO:jbarbour55@gmail.com
END:VEVENT
BEGIN:VEVENT
DTSTART;VALUE=DATE:20250329
DTEND;VALUE=DATE:20250330
DTSTAMP:20260425T190028
CREATED:20250116T004807Z
LAST-MODIFIED:20250317T194714Z
UID:4884-1743206400-1743292799@pinevalleysedona.com
SUMMARY:Pine Valley Neighbors Board Meeting - 10AM
DESCRIPTION:Main items up for Discussion:\n\nUSFS Fire issues\nConsolidation efforts for Garbage Services\n\n\nALL PINE VALLEY RESIDENTS ARE WELCOME!
URL:https://pinevalleysedona.com/event/pine-valley-neighbors-board-meeting/
LOCATION:Diana Judson’s house\, 15 Bobcat\, Pine Valley\, YAV\, 86351
CATEGORIES:Events
END:VEVENT
BEGIN:VEVENT
DTSTART;TZID=UTC:20250208T080000
DTEND;TZID=UTC:20250208T170000
DTSTAMP:20260425T190028
CREATED:20250116T010203Z
LAST-MODIFIED:20250116T010249Z
UID:4887-1739001600-1739034000@pinevalleysedona.com
SUMMARY:Green Bag Pick-up
DESCRIPTION:More about the Green Bag Neighborhood Food Project 
URL:https://pinevalleysedona.com/event/green-bag-pick-up-4/
LOCATION:Pine Valley Neighbors\, AZ\, United States
ORGANIZER;CN="Jackie Barbour":MAILTO:jbarbour55@gmail.com
END:VEVENT
BEGIN:VEVENT
DTSTART;TZID=UTC:20241012T090000
DTEND;TZID=UTC:20241012T120000
DTSTAMP:20260425T190028
CREATED:20240918T231904Z
LAST-MODIFIED:20240918T232605Z
UID:4863-1728723600-1728734400@pinevalleysedona.com
SUMMARY:Green Bag Food Requests
DESCRIPTION:Hello\, everyone.  We received some requests from our food banks based on client requests. \n\nPlease shop for almond milk\, cereal (low sugar)\, and canned proteins.  Canned chicken\, salmon\, and fish are very popular canned protein requests.  If you happen to go to Trader Joe’s\, look for their canned fish selection.  The grilled sardines and other fishes are delicious and quite inexpensive.\n\nOur next pick up is October 12 starting at 9:00 am.
URL:https://pinevalleysedona.com/event/green-bag-food-requests/
LOCATION:Pine Valley Community Subdivision\, Village of Oak Creek\, AZ\, 86351\, United States
ORGANIZER;CN="Jackie Barbour":MAILTO:jbarbour55@gmail.com
END:VEVENT
BEGIN:VEVENT
DTSTART;TZID=UTC:20240413T080000
DTEND;TZID=UTC:20240413T170000
DTSTAMP:20260425T190028
CREATED:20240319T180305Z
LAST-MODIFIED:20240402T221432Z
UID:4841-1712995200-1713027600@pinevalleysedona.com
SUMMARY:Green Bag Pick Up
DESCRIPTION:Hello\, everyone.  Our next Green Bag pick up is Saturday\, April 13.  If you have any questions\, won’t be available for this pick up\,  or need assistance with your shopping\, please reach out to me by email/phone/text. \n\n\nBelow please read info on Project Fill the Need (PFTN).  PFTN is a local pantry located in the Big Park Community School.  PFTN receives food donations from Green Bag and also accepts monetary donations.  Information about the other food pantries that benefit from your Green Bag food donations will be included in your Green Bags in the coming months.  \n\n\nJackie Barbour\nGreen Bag Neighborhood Coordinator\nPine Valley\n\n\nLinks:\n\nProject Fill the Need\nVerde Valley Neighborhood Food Project\n\n\n\nhttps://projectfilltheneed.org/\n\n\n\n\nhttps://verdevalleyfoodproject.org/
URL:https://pinevalleysedona.com/event/green-bag-pick-up-3/
LOCATION:Pine Valley Neighbors\, AZ\, United States
ORGANIZER;CN="Jackie Barbour":MAILTO:jbarbour55@gmail.com
END:VEVENT
BEGIN:VEVENT
DTSTART;TZID=UTC:20231209T090000
DTEND;TZID=UTC:20231209T123000
DTSTAMP:20260425T190028
CREATED:20231117T192847Z
LAST-MODIFIED:20231117T192847Z
UID:4824-1702112400-1702125000@pinevalleysedona.com
SUMMARY:Green Bag pick up
DESCRIPTION:Hello\, everyone!  I hope all is well.  I am on travel\, but I see that the weather is quite nice in Sedona – perhaps rain tomorrow!  I am doing a happy dance for all of us. \n\nOur next Green Bag pick up is Saturday\, December 9th.  I will start the pick up at 9:00 am.\n\nIf you will not be available for pick up on Saturday\, please let me know.  You are always welcome to drop off a bag prior at my house (220 Wild Flower Circle\, inside the front gate).\n\nThank you\, everyone!\n\nJackie Barbour
URL:https://pinevalleysedona.com/event/green-bag-pick-up-2/
LOCATION:YAV
ORGANIZER;CN="Jackie Barbour":MAILTO:jbarbour55@gmail.com
END:VEVENT
BEGIN:VEVENT
DTSTART;TZID=UTC:20231014T160000
DTEND;TZID=UTC:20231014T180000
DTSTAMP:20260425T190028
CREATED:20230818T174640Z
LAST-MODIFIED:20230818T181522Z
UID:4477-1697299200-1697306400@pinevalleysedona.com
SUMMARY:Save the Date: October 14\, 2023 - PV Neighbors Party - 4-6PM
DESCRIPTION:Please email camillecox716@gmail.com if you would be willing to help. A few organizational tasks must be done in advance – this is always a fun team!
URL:https://pinevalleysedona.com/event/save-the-date-october-14-2023-pv-neighbors-party/
LOCATION:YAV
CATEGORIES:Events
ATTACH;FMTTYPE=image/jpeg:https://pinevalleysedona.com/wp-content/uploads/2023/08/image.jpeg
END:VEVENT
BEGIN:VEVENT
DTSTART;TZID=UTC:20231014T090000
DTEND;TZID=UTC:20231014T120000
DTSTAMP:20260425T190028
CREATED:20231008T234849Z
LAST-MODIFIED:20250317T191513Z
UID:4816-1697274000-1697284800@pinevalleysedona.com
SUMMARY:Green Bag Collection!
DESCRIPTION:If you have any questions or comments\, please email\, text\, or call me.\n\nThank you for feeding our community.\n\nJackie Barbour\nGreen Bag Neighborhood Coordinator\n\nPine Valley \n(301) 639-8439
URL:https://pinevalleysedona.com/event/green-bag-collection/
LOCATION:Pine Valley Community Subdivision\, Village of Oak Creek\, AZ\, 86351\, United States
ATTACH;FMTTYPE=image/jpeg:https://pinevalleysedona.com/wp-content/uploads/2023/10/‎VVFNP-OCT-14-2023.jpeg
ORGANIZER;CN="Jackie Barbour":MAILTO:jbarbour55@gmail.com
END:VEVENT
BEGIN:VEVENT
DTSTART;TZID=UTC:20230812T080000
DTEND;TZID=UTC:20230812T113000
DTSTAMP:20260425T190028
CREATED:20230705T173154Z
LAST-MODIFIED:20230717T214646Z
UID:4420-1691827200-1691839800@pinevalleysedona.com
SUMMARY:Green + Red Bag Collection
DESCRIPTION:Hello.  I hope everyone is managing to stay cool in this heat. \nOur next Green Bag and Red Bag pick up is Saturday\, August 12th.  We will pick up your bag(s) EARLY – starting at 8:00 am.  This gives the people processing the donations outside at Clark’s Market cooler working conditions. \nSome of the requests that have come in are for canned meat\, protein-based (low sodium) soups\, shelf-stable almond or rice milk\, and brown rice.  \nSedona area schools begin the first week of school in August\, so please consider adding some nutritious snack items for the kids.  \nOther items that are requested are spices/seasonings\, and cooking oils (in plastic containers\, as we cannot accept anything in glass).  \nThis pick-up is also our yearly collection for school supplies for our local schools.  The Staples in Sedona has sales on school supplies:  https://www.staples.com/school-supplies/cat_SC350235 and free delivery with orders over $25. \n Please place all school supplies in the plastic Red bags.  \nI’ve included the list of requested school supplies for our local teachers.  These are the items that they typically buy out-of-pocket\, so anything that is available through a centralized supply cabinet is much appreciated by them.  \nI have lots of attachments below – have fun and THANK YOU for helping our community. \nJackie Barbour.\nGreen Bag volunteer – Pine Valley Neighborhood Food Coordinator\n(301) 639-8439 \nYou may not expect this\, but in the Verde Valley\, including Sedona\, many people go hungry. This program helps fight hunger in our community. Read about the Green Bag Collection here.
URL:https://pinevalleysedona.com/event/green-red-bag-collection/
LOCATION:Pine Valley Community Subdivision\, Village of Oak Creek\, AZ\, 86351\, United States
ORGANIZER;CN="Jackie Barbour":MAILTO:jbarbour55@gmail.com
END:VEVENT
BEGIN:VEVENT
DTSTART;TZID=UTC:20230610T080000
DTEND;TZID=UTC:20230610T110000
DTSTAMP:20260425T190028
CREATED:20230518T151101Z
LAST-MODIFIED:20230518T151101Z
UID:4410-1686384000-1686394800@pinevalleysedona.com
SUMMARY:Green Bag Pickup
DESCRIPTION:
URL:https://pinevalleysedona.com/event/green-bag-pickup/
LOCATION:Pine Valley Community Subdivision\, Village of Oak Creek\, AZ\, 86351\, United States
ATTACH;FMTTYPE=image/jpeg:https://pinevalleysedona.com/wp-content/uploads/2023/05/VVFNP-JUNE-10-2023.jpeg
ORGANIZER;CN="Jackie Barbour":MAILTO:jbarbour55@gmail.com
END:VEVENT
BEGIN:VEVENT
DTSTART;TZID=UTC:20230408T080000
DTEND;TZID=UTC:20230408T110000
DTSTAMP:20260425T190028
CREATED:20230322T191252Z
LAST-MODIFIED:20230322T223730Z
UID:4353-1680940800-1680951600@pinevalleysedona.com
SUMMARY:Green Bag pick up
DESCRIPTION:March 20\, 2023 \nHello\, everyone.  Happy first day of spring. \nI received our Green Bag results. Pine Valley contributed a total of 192.3 pounds of food from 14 donors.  This provided 160 meals to our community.  Thank you!\n\nOur next Green Bag pick up is Saturday\, April 8th.  We will start our round at 9:00 am.\n\nIf you have any questions\, please let me know.  I am always looking for new neighbors to join us\, so please feel free to refer people to me.\n\nJackie Barbour\n(301) 639-8439\n\nRead about the Green Bag Program here.
URL:https://pinevalleysedona.com/event/green-bag-pick-up/
LOCATION:Pine Valley Neighbors\, AZ\, United States
ORGANIZER;CN="Jackie Barbour":MAILTO:jbarbour55@gmail.com
END:VEVENT
BEGIN:VEVENT
DTSTART;TZID=UTC:20230211T080000
DTEND;TZID=UTC:20230211T123000
DTSTAMP:20260425T190028
CREATED:20230127T225136Z
LAST-MODIFIED:20230127T225136Z
UID:4338-1676102400-1676118600@pinevalleysedona.com
SUMMARY:Green and Red Bag Collection
DESCRIPTION:Our next Green Bag is scheduled for February 11th.  It will also be a Red Bag pickup month.  If you choose to donate items for our local school teachers\, please put them into the Red Bags.  If you do not use the Red Bags\, please include them with your Green Bags for our next cycle.\n\n\nCHANGES are afoot….\n\nThere have been some changes announced by the Verde Valley Neighborhood Food Project (VVNFP).  The volunteers who run the VVNFP choose to do so with very little money.  It is an organization that is lean by decision.  As a result\, monetary donations are discouraged.  Donors who want to write checks should send them directly to the food banks.  As a result\, donors who prefer to only donate money and not provide non-perishable food items for pickup will no longer be considered Green Bag donors.  Those who donate on occasion will still be considered regular donors as long as they can provide the shelf stable food we need for our local pantries.\n\nIn addition\, food donations cannot be designated for a specific food bank.  For the collection to work\, each food bank receives a portion of the total amount of food collected.  St. Vincent De Paul Pantry and Verde Valley School Pantry only get food from the Green Bag collection effort.\n\nAs your Neighborhood Green Bag Representative\, I am available to help if you find you cannot get out to purchase food.  Please contact me through email jbarbour55@gmail.com or phone (301) 639-8439‬.
URL:https://pinevalleysedona.com/event/green-and-red-bag-collection/
LOCATION:Pine Valley Community Subdivision\, Village of Oak Creek\, AZ\, 86351\, United States
ORGANIZER;CN="Jackie Barbour":MAILTO:jbarbour55@gmail.com
END:VEVENT
BEGIN:VEVENT
DTSTART;TZID=UTC:20221210T080000
DTEND;TZID=UTC:20221210T170000
DTSTAMP:20260425T190028
CREATED:20221128T173944Z
LAST-MODIFIED:20221128T174425Z
UID:4324-1670659200-1670691600@pinevalleysedona.com
SUMMARY:Green + Red Bag Pickup for the Verde Valley Neighborhood Food Project
DESCRIPTION:Hello\, everyone.  Our next Green Bag pickup is Saturday\, December 10th.\nI will include a Red Bag in this run so that those who want to can fill it with supplies for our local teachers for our pickup in February. I will also give you a magnet with the dates of our 2023 pickup schedule\, and a donation receipt. \nIf you will not be participating\, please send me an email or give me a call.  If you need help getting groceries\, I am happy to help. \nHappy upcoming holidays! \nJackie Barbour\n(301) 639-8439
URL:https://pinevalleysedona.com/event/green-red-bag-pickup-for-the-verde-valley-neighborhood-food-project-3/
LOCATION:YAV
ORGANIZER;CN="Jackie Barbour":MAILTO:jbarbour55@gmail.com
END:VEVENT
BEGIN:VEVENT
DTSTART;VALUE=DATE:20221110
DTEND;VALUE=DATE:20221120
DTSTAMP:20260425T190028
CREATED:20221104T184112Z
LAST-MODIFIED:20221107T233930Z
UID:4314-1668038400-1668902399@pinevalleysedona.com
SUMMARY:Dumpster Time - for Members Only
DESCRIPTION:November 10th is when the big bin will be open for contributions from your yard. Same location as in the past. We’ll send another reminder closer to the date. End date – when the dumpster is full.
URL:https://pinevalleysedona.com/event/dumpster-time-for-members-only/
LOCATION:YAV
END:VEVENT
BEGIN:VEVENT
DTSTART;TZID=UTC:20221008T080000
DTEND;TZID=UTC:20221008T123000
DTSTAMP:20260425T190028
CREATED:20220919T174932Z
LAST-MODIFIED:20220919T174932Z
UID:4063-1665216000-1665232200@pinevalleysedona.com
SUMMARY:Green + Red Bag Pickup for the Verde Valley Neighborhood Food Project
DESCRIPTION:
URL:https://pinevalleysedona.com/event/green-red-bag-pickup-for-the-verde-valley-neighborhood-food-project-2/
LOCATION:Pine Valley Neighbors\, AZ\, United States
ORGANIZER;CN="Jackie Barbour":MAILTO:jbarbour55@gmail.com
END:VEVENT
BEGIN:VEVENT
DTSTART;VALUE=DATE:20220813
DTEND;VALUE=DATE:20220814
DTSTAMP:20260425T190028
CREATED:20220716T000416Z
LAST-MODIFIED:20220716T000425Z
UID:4048-1660348800-1660435199@pinevalleysedona.com
SUMMARY:Green + Red Bag Pickup for the Verde Valley Neighborhood Food Project
DESCRIPTION:Hello\, everyone!  I’ve been on the road for a while\, and I just got home. I would like to thank everyone for a great food contribution in June\, and also send a shout out to Linda and Vic Lukas\, who covered our route.    \nLooking ahead to August (13th)\, we will be picking up your Green Bags of food donations and Red Bags with school supplies.  I’ve included a list of supplies requested by our teachers below.  \n\n \nI hope to start the pickup at 8:30 am.  Does anyone have a problem with this earlier time?  We hope to get our delivery to the folks who process everything a little earlier because of the heat. If you want to arrange for me to pick up your donation bag(s) earlier\, just send me an email or text/call me at (301) 639-8439.  \n \nCheers\,\nJackie Barbour\n(301) 639-8439
URL:https://pinevalleysedona.com/event/green-red-bag-pickup-for-the-verde-valley-neighborhood-food-project/
LOCATION:Pine Valley Community Subdivision\, Village of Oak Creek\, AZ\, 86351\, United States
CATEGORIES:Events
ORGANIZER;CN="Jackie Barbour":MAILTO:jbarbour55@gmail.com
END:VEVENT
BEGIN:VEVENT
DTSTART;VALUE=DATE:20220611
DTEND;VALUE=DATE:20220612
DTSTAMP:20260425T190028
CREATED:20220515T195216Z
LAST-MODIFIED:20220515T195428Z
UID:4041-1654905600-1654991999@pinevalleysedona.com
SUMMARY:Green Bag Pickup for the Verde Valley Neighborhood Food Project
DESCRIPTION:Verde Valley Neighborhood Food Project (The Green Bag Project)\n\n\n\nFor several years\, the Green Bag Program has been very successful in the VOC and Pine Valley. For our area\, currently the project is called Verde Valley Neighborhood Food Project. \nYou may not expect this\, but in the Verde Valley\, including Sedona\, many people go hungry. This program helps fight hunger in our community. The following information is taken from the VV Neighborhood Food Project’s website (https://verdevalleyfoodproject.org). \nWHAT \n“A Simple System That Really Works. \n“EVERY 2 MONTHS—on the second Saturday of every even month—our Neighborhood Coordinators pick up bags of healthy nonperishable food that neighbors have left outside their front doors. They leave empty green bags for next time\, and take all the food to local Food Banks. It’s that easy!” \nHOW \nDetails here https://verdevalleyfoodproject.org/941-2/. In Pine Valley you can contact Jackie Barbour\, our neighborhood point of contact at jbarbour55@gmail.com\, or call her at (301) 639-8439. \nWHERE \nPickups happen in front of your home. Simply place your green bag (supplied by Jackie after you contact her) with non-perishable food on the pick-up day. \nWHEN \nThe June 2022 pickup date is Saturday\, June 11. Please check the Pine Valley Events Calendar  (Green Bag Pickup for the Verde Valley Neighborhood Food Project) for details specific to each pick-up. Each month the needs may be different for certain food items. Sometimes you can add a “red bag\,” that you can fill with specific school supplies. That way teachers don’t need to pay for these supplies themselves. Be sure to check the calendar to find up-to date necessities for that month.
URL:https://pinevalleysedona.com/event/green-bag-pickup-for-the-verde-valley-neighborhood-food-project/
LOCATION:YAV
ORGANIZER;CN="Jackie Barbour":MAILTO:jbarbour55@gmail.com
END:VEVENT
BEGIN:VEVENT
DTSTART;VALUE=DATE:20220515
DTEND;VALUE=DATE:20220516
DTSTAMP:20260425T190028
CREATED:20220421T232339Z
LAST-MODIFIED:20220421T232725Z
UID:3996-1652572800-1652659199@pinevalleysedona.com
SUMMARY:PV Neighborhood BBQ
DESCRIPTION:
URL:https://pinevalleysedona.com/event/pv-neighborhood-bbq/
LOCATION:Camille and Phil Cox\, 105 Gray Fox Dr.\, Sedona\, AZ\, 86351\, United States
ATTACH;FMTTYPE=image/jpeg:https://pinevalleysedona.com/wp-content/uploads/2022/04/IMG_8594.jpeg
END:VEVENT
BEGIN:VEVENT
DTSTART;VALUE=DATE:20220512
DTEND;VALUE=DATE:20220513
DTSTAMP:20260425T190028
CREATED:20220421T225942Z
LAST-MODIFIED:20220421T230345Z
UID:3984-1652313600-1652399999@pinevalleysedona.com
SUMMARY:PVPOA Board Meeting
DESCRIPTION:Meeting starts at 6pm.
URL:https://pinevalleysedona.com/event/pvpoa-board-meeting-4/
LOCATION:Vic Lucas
END:VEVENT
BEGIN:VEVENT
DTSTART;VALUE=DATE:20220222
DTEND;VALUE=DATE:20220223
DTSTAMP:20260425T190028
CREATED:20220215T232517Z
LAST-MODIFIED:20220215T233228Z
UID:3902-1645488000-1645574399@pinevalleysedona.com
SUMMARY:PVPOA Board Meeting
DESCRIPTION:Meeting starts at 6:30.
URL:https://pinevalleysedona.com/event/pvpoa-board-meeting-3/
LOCATION:Camille and Phil Cox\, 105 Gray Fox Dr.\, Sedona\, AZ\, 86351\, United States
END:VEVENT
BEGIN:VEVENT
DTSTART;VALUE=DATE:20220212
DTEND;VALUE=DATE:20220213
DTSTAMP:20260425T190028
CREATED:20220204T010657Z
LAST-MODIFIED:20220204T030206Z
UID:3847-1644624000-1644710399@pinevalleysedona.com
SUMMARY:Green Bag Pickup for the Verde Valley Neighborhood Food Project
DESCRIPTION:Please scroll to the bottom of this page for contact info (in the grey box.).
URL:https://pinevalleysedona.com/event/february-2022-green-bag-pickup-for-the-verde-valley-neighborhood-food-project/
LOCATION:YAV
ORGANIZER;CN="Jackie Barbour":MAILTO:jbarbour55@gmail.com
END:VEVENT
BEGIN:VEVENT
DTSTART;VALUE=DATE:20201205
DTEND;VALUE=DATE:20201206
DTSTAMP:20260425T190028
CREATED:20200226T003235Z
LAST-MODIFIED:20201105T213048Z
UID:3297-1607126400-1607212799@pinevalleysedona.com
SUMMARY:Holiday Party - Cancelled due to COVID-19
DESCRIPTION:Place TBD.
URL:https://pinevalleysedona.com/event/holiday-party/
LOCATION:YAV
END:VEVENT
BEGIN:VEVENT
DTSTART;VALUE=DATE:20201013
DTEND;VALUE=DATE:20201014
DTSTAMP:20260425T190028
CREATED:20200226T185620Z
LAST-MODIFIED:20201005T211954Z
UID:3373-1602547200-1602633599@pinevalleysedona.com
SUMMARY:PVPOA Membership Meeting – CANCELLED
DESCRIPTION:
URL:https://pinevalleysedona.com/event/pvpoa-membership-meeting-7pm-3/
LOCATION:VOC Church of the Nazarene on Rojo Dr.\, 55 Rojo Dr.\, Sedona\, AZ\, 86351\, United States
END:VEVENT
END:VCALENDAR