BEGIN:VCALENDAR
VERSION:2.0
PRODID:-//The Spirit of Pine Valley - ECPv6.15.20//NONSGML v1.0//EN
CALSCALE:GREGORIAN
METHOD:PUBLISH
X-ORIGINAL-URL:https://pinevalleysedona.com
X-WR-CALDESC:Events for The Spirit of Pine Valley
REFRESH-INTERVAL;VALUE=DURATION:PT1H
X-Robots-Tag:noindex
X-PUBLISHED-TTL:PT1H
BEGIN:VTIMEZONE
TZID:UTC
BEGIN:STANDARD
TZOFFSETFROM:+0000
TZOFFSETTO:+0000
TZNAME:UTC
DTSTART:20140101T000000
END:STANDARD
END:VTIMEZONE
BEGIN:VTIMEZONE
TZID:America/Phoenix
BEGIN:STANDARD
TZOFFSETFROM:-0700
TZOFFSETTO:-0700
TZNAME:MST
DTSTART:20170101T000000
END:STANDARD
END:VTIMEZONE
BEGIN:VEVENT
DTSTART;TZID=UTC:20230610T080000
DTEND;TZID=UTC:20230610T110000
DTSTAMP:20260426T014723
CREATED:20230518T151101Z
LAST-MODIFIED:20230518T151101Z
UID:4410-1686384000-1686394800@pinevalleysedona.com
SUMMARY:Green Bag Pickup
DESCRIPTION:
URL:https://pinevalleysedona.com/event/green-bag-pickup/
LOCATION:Pine Valley Community Subdivision\, Village of Oak Creek\, AZ\, 86351\, United States
ATTACH;FMTTYPE=image/jpeg:https://pinevalleysedona.com/wp-content/uploads/2023/05/VVFNP-JUNE-10-2023.jpeg
ORGANIZER;CN="Jackie Barbour":MAILTO:jbarbour55@gmail.com
END:VEVENT
BEGIN:VEVENT
DTSTART;TZID=UTC:20230408T080000
DTEND;TZID=UTC:20230408T110000
DTSTAMP:20260426T014723
CREATED:20230322T191252Z
LAST-MODIFIED:20230322T223730Z
UID:4353-1680940800-1680951600@pinevalleysedona.com
SUMMARY:Green Bag pick up
DESCRIPTION:March 20\, 2023 \nHello\, everyone.  Happy first day of spring. \nI received our Green Bag results. Pine Valley contributed a total of 192.3 pounds of food from 14 donors.  This provided 160 meals to our community.  Thank you!\n\nOur next Green Bag pick up is Saturday\, April 8th.  We will start our round at 9:00 am.\n\nIf you have any questions\, please let me know.  I am always looking for new neighbors to join us\, so please feel free to refer people to me.\n\nJackie Barbour\n(301) 639-8439\n\nRead about the Green Bag Program here.
URL:https://pinevalleysedona.com/event/green-bag-pick-up/
LOCATION:Pine Valley Neighbors\, AZ\, United States
ORGANIZER;CN="Jackie Barbour":MAILTO:jbarbour55@gmail.com
END:VEVENT
BEGIN:VEVENT
DTSTART;TZID=UTC:20230211T080000
DTEND;TZID=UTC:20230211T123000
DTSTAMP:20260426T014723
CREATED:20230127T225136Z
LAST-MODIFIED:20230127T225136Z
UID:4338-1676102400-1676118600@pinevalleysedona.com
SUMMARY:Green and Red Bag Collection
DESCRIPTION:Our next Green Bag is scheduled for February 11th.  It will also be a Red Bag pickup month.  If you choose to donate items for our local school teachers\, please put them into the Red Bags.  If you do not use the Red Bags\, please include them with your Green Bags for our next cycle.\n\n\nCHANGES are afoot….\n\nThere have been some changes announced by the Verde Valley Neighborhood Food Project (VVNFP).  The volunteers who run the VVNFP choose to do so with very little money.  It is an organization that is lean by decision.  As a result\, monetary donations are discouraged.  Donors who want to write checks should send them directly to the food banks.  As a result\, donors who prefer to only donate money and not provide non-perishable food items for pickup will no longer be considered Green Bag donors.  Those who donate on occasion will still be considered regular donors as long as they can provide the shelf stable food we need for our local pantries.\n\nIn addition\, food donations cannot be designated for a specific food bank.  For the collection to work\, each food bank receives a portion of the total amount of food collected.  St. Vincent De Paul Pantry and Verde Valley School Pantry only get food from the Green Bag collection effort.\n\nAs your Neighborhood Green Bag Representative\, I am available to help if you find you cannot get out to purchase food.  Please contact me through email jbarbour55@gmail.com or phone (301) 639-8439‬.
URL:https://pinevalleysedona.com/event/green-and-red-bag-collection/
LOCATION:Pine Valley Community Subdivision\, Village of Oak Creek\, AZ\, 86351\, United States
ORGANIZER;CN="Jackie Barbour":MAILTO:jbarbour55@gmail.com
END:VEVENT
BEGIN:VEVENT
DTSTART;TZID=UTC:20221210T080000
DTEND;TZID=UTC:20221210T170000
DTSTAMP:20260426T014723
CREATED:20221128T173944Z
LAST-MODIFIED:20221128T174425Z
UID:4324-1670659200-1670691600@pinevalleysedona.com
SUMMARY:Green + Red Bag Pickup for the Verde Valley Neighborhood Food Project
DESCRIPTION:Hello\, everyone.  Our next Green Bag pickup is Saturday\, December 10th.\nI will include a Red Bag in this run so that those who want to can fill it with supplies for our local teachers for our pickup in February. I will also give you a magnet with the dates of our 2023 pickup schedule\, and a donation receipt. \nIf you will not be participating\, please send me an email or give me a call.  If you need help getting groceries\, I am happy to help. \nHappy upcoming holidays! \nJackie Barbour\n(301) 639-8439
URL:https://pinevalleysedona.com/event/green-red-bag-pickup-for-the-verde-valley-neighborhood-food-project-3/
LOCATION:AZ
ORGANIZER;CN="Jackie Barbour":MAILTO:jbarbour55@gmail.com
END:VEVENT
BEGIN:VEVENT
DTSTART;VALUE=DATE:20221110
DTEND;VALUE=DATE:20221120
DTSTAMP:20260426T014723
CREATED:20221104T184112Z
LAST-MODIFIED:20221107T233930Z
UID:4314-1668038400-1668902399@pinevalleysedona.com
SUMMARY:Dumpster Time - for Members Only
DESCRIPTION:November 10th is when the big bin will be open for contributions from your yard. Same location as in the past. We’ll send another reminder closer to the date. End date – when the dumpster is full.
URL:https://pinevalleysedona.com/event/dumpster-time-for-members-only/
LOCATION:AZ
END:VEVENT
BEGIN:VEVENT
DTSTART;TZID=UTC:20221008T080000
DTEND;TZID=UTC:20221008T123000
DTSTAMP:20260426T014723
CREATED:20220919T174932Z
LAST-MODIFIED:20220919T174932Z
UID:4063-1665216000-1665232200@pinevalleysedona.com
SUMMARY:Green + Red Bag Pickup for the Verde Valley Neighborhood Food Project
DESCRIPTION:
URL:https://pinevalleysedona.com/event/green-red-bag-pickup-for-the-verde-valley-neighborhood-food-project-2/
LOCATION:Pine Valley Neighbors\, AZ\, United States
ORGANIZER;CN="Jackie Barbour":MAILTO:jbarbour55@gmail.com
END:VEVENT
BEGIN:VEVENT
DTSTART;VALUE=DATE:20220813
DTEND;VALUE=DATE:20220814
DTSTAMP:20260426T014723
CREATED:20220716T000416Z
LAST-MODIFIED:20220716T000425Z
UID:4048-1660348800-1660435199@pinevalleysedona.com
SUMMARY:Green + Red Bag Pickup for the Verde Valley Neighborhood Food Project
DESCRIPTION:Hello\, everyone!  I’ve been on the road for a while\, and I just got home. I would like to thank everyone for a great food contribution in June\, and also send a shout out to Linda and Vic Lukas\, who covered our route.    \nLooking ahead to August (13th)\, we will be picking up your Green Bags of food donations and Red Bags with school supplies.  I’ve included a list of supplies requested by our teachers below.  \n\n \nI hope to start the pickup at 8:30 am.  Does anyone have a problem with this earlier time?  We hope to get our delivery to the folks who process everything a little earlier because of the heat. If you want to arrange for me to pick up your donation bag(s) earlier\, just send me an email or text/call me at (301) 639-8439.  \n \nCheers\,\nJackie Barbour\n(301) 639-8439
URL:https://pinevalleysedona.com/event/green-red-bag-pickup-for-the-verde-valley-neighborhood-food-project/
LOCATION:Pine Valley Community Subdivision\, Village of Oak Creek\, AZ\, 86351\, United States
CATEGORIES:Events
ORGANIZER;CN="Jackie Barbour":MAILTO:jbarbour55@gmail.com
END:VEVENT
BEGIN:VEVENT
DTSTART;VALUE=DATE:20220611
DTEND;VALUE=DATE:20220612
DTSTAMP:20260426T014723
CREATED:20220515T195216Z
LAST-MODIFIED:20220515T195428Z
UID:4041-1654905600-1654991999@pinevalleysedona.com
SUMMARY:Green Bag Pickup for the Verde Valley Neighborhood Food Project
DESCRIPTION:Verde Valley Neighborhood Food Project (The Green Bag Project)\n\n\n\nFor several years\, the Green Bag Program has been very successful in the VOC and Pine Valley. For our area\, currently the project is called Verde Valley Neighborhood Food Project. \nYou may not expect this\, but in the Verde Valley\, including Sedona\, many people go hungry. This program helps fight hunger in our community. The following information is taken from the VV Neighborhood Food Project’s website (https://verdevalleyfoodproject.org). \nWHAT \n“A Simple System That Really Works. \n“EVERY 2 MONTHS—on the second Saturday of every even month—our Neighborhood Coordinators pick up bags of healthy nonperishable food that neighbors have left outside their front doors. They leave empty green bags for next time\, and take all the food to local Food Banks. It’s that easy!” \nHOW \nDetails here https://verdevalleyfoodproject.org/941-2/. In Pine Valley you can contact Jackie Barbour\, our neighborhood point of contact at jbarbour55@gmail.com\, or call her at (301) 639-8439. \nWHERE \nPickups happen in front of your home. Simply place your green bag (supplied by Jackie after you contact her) with non-perishable food on the pick-up day. \nWHEN \nThe June 2022 pickup date is Saturday\, June 11. Please check the Pine Valley Events Calendar  (Green Bag Pickup for the Verde Valley Neighborhood Food Project) for details specific to each pick-up. Each month the needs may be different for certain food items. Sometimes you can add a “red bag\,” that you can fill with specific school supplies. That way teachers don’t need to pay for these supplies themselves. Be sure to check the calendar to find up-to date necessities for that month.
URL:https://pinevalleysedona.com/event/green-bag-pickup-for-the-verde-valley-neighborhood-food-project/
LOCATION:AZ
ORGANIZER;CN="Jackie Barbour":MAILTO:jbarbour55@gmail.com
END:VEVENT
BEGIN:VEVENT
DTSTART;VALUE=DATE:20220515
DTEND;VALUE=DATE:20220516
DTSTAMP:20260426T014723
CREATED:20220421T232339Z
LAST-MODIFIED:20220421T232725Z
UID:3996-1652572800-1652659199@pinevalleysedona.com
SUMMARY:PV Neighborhood BBQ
DESCRIPTION:
URL:https://pinevalleysedona.com/event/pv-neighborhood-bbq/
LOCATION:Camille and Phil Cox\, 105 Gray Fox Dr.\, Sedona\, AZ\, 86351\, United States
ATTACH;FMTTYPE=image/jpeg:https://pinevalleysedona.com/wp-content/uploads/2022/04/IMG_8594.jpeg
END:VEVENT
BEGIN:VEVENT
DTSTART;VALUE=DATE:20220512
DTEND;VALUE=DATE:20220513
DTSTAMP:20260426T014723
CREATED:20220421T225942Z
LAST-MODIFIED:20220421T230345Z
UID:3984-1652313600-1652399999@pinevalleysedona.com
SUMMARY:PVPOA Board Meeting
DESCRIPTION:Meeting starts at 6pm.
URL:https://pinevalleysedona.com/event/pvpoa-board-meeting-4/
LOCATION:Vic Lucas
END:VEVENT
BEGIN:VEVENT
DTSTART;VALUE=DATE:20220222
DTEND;VALUE=DATE:20220223
DTSTAMP:20260426T014723
CREATED:20220215T232517Z
LAST-MODIFIED:20220215T233228Z
UID:3902-1645488000-1645574399@pinevalleysedona.com
SUMMARY:PVPOA Board Meeting
DESCRIPTION:Meeting starts at 6:30.
URL:https://pinevalleysedona.com/event/pvpoa-board-meeting-3/
LOCATION:Camille and Phil Cox\, 105 Gray Fox Dr.\, Sedona\, AZ\, 86351\, United States
END:VEVENT
BEGIN:VEVENT
DTSTART;VALUE=DATE:20220212
DTEND;VALUE=DATE:20220213
DTSTAMP:20260426T014723
CREATED:20220204T010657Z
LAST-MODIFIED:20220204T030206Z
UID:3847-1644624000-1644710399@pinevalleysedona.com
SUMMARY:Green Bag Pickup for the Verde Valley Neighborhood Food Project
DESCRIPTION:Please scroll to the bottom of this page for contact info (in the grey box.).
URL:https://pinevalleysedona.com/event/february-2022-green-bag-pickup-for-the-verde-valley-neighborhood-food-project/
LOCATION:AZ
ORGANIZER;CN="Jackie Barbour":MAILTO:jbarbour55@gmail.com
END:VEVENT
BEGIN:VEVENT
DTSTART;VALUE=DATE:20201205
DTEND;VALUE=DATE:20201206
DTSTAMP:20260426T014723
CREATED:20200226T003235Z
LAST-MODIFIED:20201105T213048Z
UID:3297-1607126400-1607212799@pinevalleysedona.com
SUMMARY:Holiday Party - Cancelled due to COVID-19
DESCRIPTION:Place TBD.
URL:https://pinevalleysedona.com/event/holiday-party/
LOCATION:AZ
END:VEVENT
BEGIN:VEVENT
DTSTART;VALUE=DATE:20201013
DTEND;VALUE=DATE:20201014
DTSTAMP:20260426T014723
CREATED:20200226T185620Z
LAST-MODIFIED:20201005T211954Z
UID:3373-1602547200-1602633599@pinevalleysedona.com
SUMMARY:PVPOA Membership Meeting – CANCELLED
DESCRIPTION:
URL:https://pinevalleysedona.com/event/pvpoa-membership-meeting-7pm-3/
LOCATION:VOC Church of the Nazarene on Rojo Dr.\, 55 Rojo Dr.\, Sedona\, AZ\, 86351\, United States
END:VEVENT
BEGIN:VEVENT
DTSTART;VALUE=DATE:20201013
DTEND;VALUE=DATE:20201014
DTSTAMP:20260426T014723
CREATED:20200226T004028Z
LAST-MODIFIED:20201005T211821Z
UID:3312-1602547200-1602633599@pinevalleysedona.com
SUMMARY:PVPOA Board Meeting – 5PM
DESCRIPTION:
URL:https://pinevalleysedona.com/event/pvpoa-board-meeting-7pm-2/
LOCATION:AZ
END:VEVENT
BEGIN:VEVENT
DTSTART;VALUE=DATE:20200714
DTEND;VALUE=DATE:20200715
DTSTAMP:20260426T014723
CREATED:20200226T185430Z
LAST-MODIFIED:20200624T012027Z
UID:3371-1594684800-1594771199@pinevalleysedona.com
SUMMARY:PVPOA Membership Meeting – 7PM - CANCELLED
DESCRIPTION:
URL:https://pinevalleysedona.com/event/pvpoa-membership-meeting-7pm-2/
LOCATION:VOC Church of the Nazarene on Rojo Dr.\, 55 Rojo Dr.\, Sedona\, AZ\, 86351\, United States
END:VEVENT
BEGIN:VEVENT
DTSTART;VALUE=DATE:20200714
DTEND;VALUE=DATE:20200715
DTSTAMP:20260426T014723
CREATED:20200226T003932Z
LAST-MODIFIED:20200624T011958Z
UID:3308-1594684800-1594771199@pinevalleysedona.com
SUMMARY:PVPOA Board Meeting – 6PM - CANCELLED
DESCRIPTION:
URL:https://pinevalleysedona.com/event/pvpoa-board-meeting-7pm/
LOCATION:AZ
END:VEVENT
BEGIN:VEVENT
DTSTART;VALUE=DATE:20200509
DTEND;VALUE=DATE:20200510
DTSTAMP:20260426T014723
CREATED:20200226T002305Z
LAST-MODIFIED:20200416T191326Z
UID:3292-1588982400-1589068799@pinevalleysedona.com
SUMMARY:Summer Picnic - CANCELLED and will be re-scheduled!
DESCRIPTION:This has been cancelled\, and will be re-scheduled. \n \n 
URL:https://pinevalleysedona.com/event/summer-picnic/
LOCATION:Camille and Phil Cox\, 105 Gray Fox Dr.\, Sedona\, AZ\, 86351\, United States
END:VEVENT
BEGIN:VEVENT
DTSTART;VALUE=DATE:20200414
DTEND;VALUE=DATE:20200415
DTSTAMP:20260426T014723
CREATED:20200226T185318Z
LAST-MODIFIED:20200318T024655Z
UID:3369-1586822400-1586908799@pinevalleysedona.com
SUMMARY:PVPOA Membership Meeting - 7PM - CANCELLED
DESCRIPTION:We are supporting the social distancing practice to limit any implications from the virus spreading.
URL:https://pinevalleysedona.com/event/pvpoa-membership-meeting-7pm/
LOCATION:VOC Church of the Nazarene on Rojo Dr.\, 55 Rojo Dr.\, Sedona\, AZ\, 86351\, United States
END:VEVENT
BEGIN:VEVENT
DTSTART;TZID=UTC:20191208T150000
DTEND;TZID=UTC:20191208T180000
DTSTAMP:20260426T014723
CREATED:20191121T201109Z
LAST-MODIFIED:20191121T230248Z
UID:3031-1575817200-1575828000@pinevalleysedona.com
SUMMARY:Annual Holiday Party
DESCRIPTION:Sunday\, December 8th at 3pm
URL:https://pinevalleysedona.com/event/annual-holiday-party/
LOCATION:PV Neighbor\, 3070 Valley Vista\, Sedona\, AZ\, 86351\, United States
END:VEVENT
BEGIN:VEVENT
DTSTART;TZID=America/Phoenix:20180929T160000
DTEND;TZID=America/Phoenix:20180929T160000
DTSTAMP:20260426T014723
CREATED:20180817T151409Z
LAST-MODIFIED:20180817T163805Z
UID:2999-1538236800-1538236800@pinevalleysedona.com
SUMMARY:Pine Valley Fall BBQ
DESCRIPTION:
URL:https://pinevalleysedona.com/event/fall-bbq/
LOCATION:Camille and Phil Cox\, 105 Gray Fox Dr.\, Sedona\, AZ\, 86351\, United States
CATEGORIES:Events
END:VEVENT
BEGIN:VEVENT
DTSTART;TZID=UTC:20180721T100000
DTEND;TZID=UTC:20180721T100000
DTSTAMP:20260426T014723
CREATED:20180707T185233Z
LAST-MODIFIED:20180707T191317Z
UID:2890-1532167200-1532167200@pinevalleysedona.com
SUMMARY:Pine Valley Property Owners Association Board Meeting
DESCRIPTION:The New Board is pleased to announce our next meeting and want to know what other items are important to you – what we can do to help our lovely Pine Valley so please submit agenda items by July 16th\, 2018 so they can be included on the agenda.  Below are initial details and discussion items. \nWhen:  Saturday\, July 21st 2018 @ 10AM \nWhere: Danny and Jim’s Home\, 65 Gray Fox Drive (Parking in the front and rear of the house) \nOld Business: \n\nStop sign at entrance.  Hillary Hirche will contact the County to explore the possibility of upgrading visibility and perhaps installation of a “Residential Area” sign.  (OPEN)\nHouse on Raintree is\, as reported at last meeting\, now bank-owned.  There has been some cleanup accomplished\, but still no word on status of ownership.  (OPEN)\nEntry Bulletin Board.  Recommendations are solicited regarding the Entry Bulletin Board structure.  Rick & Tracey Busbea have volunteered to repair/beautify the structure\, but we want input from the community regarding usage\, redesign\, removal\, etc.  (OPEN)\n\nNew Business: \n\nSummer BBQ – Possibly Sept 29-30\nPine Valley Water Company\nMerit Technology wireless internet update\nCampaign to increase membership\nSpeedConnect issues/updates\nMember issues/suggestions???\n\nDanny Kim \nPVPOA President
URL:https://pinevalleysedona.com/event/pine-valley-property-owners-association-board-meeting/
LOCATION:AZ
END:VEVENT
BEGIN:VEVENT
DTSTART;TZID=UTC:20170617T160000
DTEND;TZID=UTC:20170617T160000
DTSTAMP:20260426T014723
CREATED:20170420T172012Z
LAST-MODIFIED:20170420T172615Z
UID:2790-1497715200-1497715200@pinevalleysedona.com
SUMMARY:Annual PVPOA Picnic/BBQ!
DESCRIPTION:Picnic will be held once again at the home of Camille and Phil Cox\, at 105 Gray Fox Dr.\, beginning at 4pm on Saturday June 17th. We thank them for their generous support of this event! \nAs in past years we ask you bring your own chair and if you have any umbrellas\, pop up type shade etc\, please bring that as well. PVPOA will provide the meat\, plates/utensils and non-alcoholic beverages\, please being a side dish to share and adult beverages if desired. \nThis event is sponsored by PVPOA but open to all Pine Valley residents.\nSo come meet or reacquaint yourself with you neighbors. \nIt’s always a great time! \nSee you then.\nHillary Hirche\nPVPOA President \n 
URL:https://pinevalleysedona.com/event/annual-pvpoa-picnicbbq-saturday-june-17th-2017/
LOCATION:Camille and Phil Cox\, 105 Gray Fox Dr.\, Sedona\, AZ\, 86351\, United States
CATEGORIES:Events
END:VEVENT
BEGIN:VEVENT
DTSTART;TZID=UTC:20170408T090000
DTEND;TZID=UTC:20170408T090000
DTSTAMP:20260426T014723
CREATED:20170325T182235Z
LAST-MODIFIED:20170325T183125Z
UID:2765-1491642000-1491642000@pinevalleysedona.com
SUMMARY:PVPOA Meeting
DESCRIPTION:Our next meeting will take place April 8th at 9 a.m. at the home of Gary & Patty Lamb (270 Raintree Road).  The agenda will include: \n• Request for new VP. \n• Annual BBQ volunteer location and planning. \n• Semiannual dumpster arrangement (Hillary scheduling) \n• Big Park Report. \n• Usual agenda items. \n• Suggested topics from PVPOA membership. \nPlease respond no later than March 31st with agenda suggestions so I can get the final agenda published before the meeting. \nThanks\, \nRick Busbea \nPVPOA Secretary
URL:https://pinevalleysedona.com/event/pvpoa-meeting-april-8-2017/
LOCATION:The Lambs\, 270 Raintree Road\, Sedona\, AZ\, 86351\, United States
END:VEVENT
BEGIN:VEVENT
DTSTART;TZID=UTC:20161210T160000
DTEND;TZID=UTC:20161210T160000
DTSTAMP:20260426T014723
CREATED:20161127T034838Z
LAST-MODIFIED:20161127T042251Z
UID:2717-1481385600-1481385600@pinevalleysedona.com
SUMMARY:Pine Valley Property Owners Association 2016 Holiday Party
DESCRIPTION:
URL:https://pinevalleysedona.com/event/pine-valley-property-owners-association-holiday-party/
LOCATION:Studio Upstairs\, 195 Gray Fox Drive\, Sedona\, AZ\, 86351\, United States
CATEGORIES:Events
END:VEVENT
BEGIN:VEVENT
DTSTART;TZID=UTC:20161008T090000
DTEND;TZID=UTC:20161008T090000
DTSTAMP:20260426T014723
CREATED:20160914T040059Z
LAST-MODIFIED:20160914T040059Z
UID:2711-1475917200-1475917200@pinevalleysedona.com
SUMMARY:PVPOA Board Meeting
DESCRIPTION:
URL:https://pinevalleysedona.com/event/pvpoa-board-meeting-2/
LOCATION:Diana Judson’s house\, 15 Bobcat\, Pine Valley\, YAV\, 86351
END:VEVENT
BEGIN:VEVENT
DTSTART;TZID=UTC:20160716T090000
DTEND;TZID=UTC:20160716T090000
DTSTAMP:20260426T014723
CREATED:20160708T172539Z
LAST-MODIFIED:20160708T173142Z
UID:2701-1468659600-1468659600@pinevalleysedona.com
SUMMARY:PVPOA Meeting
DESCRIPTION:If you have an item you would like placed on the agenda for discussion\, please respond to this EM no later than Sunday July 10th.  \n \nIf you request an agenda item for discussion\, please plan to be present at the meeting on the 16th.\n \nThank you.\n\n-SLC for PVPOA
URL:https://pinevalleysedona.com/event/pvpoa-meeting-3/
LOCATION:Unnamed Venue\, 15 Bobcat Ct\, Sedona\, AZ\, 86351\, United States
CATEGORIES:Events
END:VEVENT
BEGIN:VEVENT
DTSTART;TZID=UTC:20160514T140000
DTEND;TZID=UTC:20160514T140000
DTSTAMP:20260426T014723
CREATED:20160419T175911Z
LAST-MODIFIED:20160419T180617Z
UID:2673-1463234400-1463234400@pinevalleysedona.com
SUMMARY:PVPOA Picnic and BBQ Party
DESCRIPTION:
URL:https://pinevalleysedona.com/event/pvpoa-picnic-and-bbq-party/
LOCATION:Unnamed Venue\, 105 Gray Fox\, Sedona\, AZ\, 86351\, United States
END:VEVENT
BEGIN:VEVENT
DTSTART;TZID=UTC:20160409T090000
DTEND;TZID=UTC:20160409T090000
DTSTAMP:20260426T014723
CREATED:20160303T172928Z
LAST-MODIFIED:20160329T002011Z
UID:2649-1460192400-1460192400@pinevalleysedona.com
SUMMARY:PVPOA Meeting
DESCRIPTION:
URL:https://pinevalleysedona.com/event/pvpoa-meeting-2/
LOCATION:Unnamed Venue\, 15 Bobcat\, Sedona\, AZ\, 86351\, United States
END:VEVENT
BEGIN:VEVENT
DTSTART;TZID=UTC:20151212T160000
DTEND;TZID=UTC:20151212T210000
DTSTAMP:20260426T014723
CREATED:20151209T202637Z
LAST-MODIFIED:20151209T235235Z
UID:2604-1449936000-1449954000@pinevalleysedona.com
SUMMARY:PV Property Owners' Meeting & Holiday Party
DESCRIPTION:Note: Click on image for details on 2016 Annual PVPOA Membership.  \nAlso – different from previous years –  Adult Beverages allowed – NO Potluck Food please\, all food will be provided  (requirements by host Sedona Winds) \n\n\n\n\n\n\nThis is mostly a chance to socialize with your neighbors and spread some holiday cheer. We will have a “brief” meeting as well to discuss several things of importance that effect the entire community (Internet Service\, PV Water Company rate increase) and of course we need to elect some new members to the board. We have a volunteer for the Secretary-Treasurer position (thank you Susan Clary) but need a new President\, Vice President and also a membership coordinator to take over for Rose Marie. The out-going board will help the new board with getting everything organized\, don’t be afraid to volunteer\, it’s pretty easy stuff\, I promise!Please bring a “white elephant” gift if interested in participating in this holiday game/tradition: \nEach participant supplies one wrapped gift\, maximum value should not exceed $20. The first person opens a wrapped gift\, and the turn ends. On subsequent turns\, each person can open a new present or gets the choice to “steal” another person’s gift. When a person’s gift is stolen\, that person can either choose another wrapped gift to open or can steal from another player. We allow a maximum of 3 steals for a gift\, raffle type tickets will be given out to each person to who brings a gift to determine the order of drawing. \nWe also will have not to be missed performance by the same wonderful A Capella group (thanks Linda Patterson and friends) as last year. \nSee you all Saturday!Hillary HircheOut-Going PVPOA President
URL:https://pinevalleysedona.com/event/pv-property-owners-meeting-holiday-party/
LOCATION:Sedona Winds (activity room)\, 405 Jacks Canyon Rd\, Sedona\, AZ\, 86351\, United States
CATEGORIES:Events
END:VEVENT
END:VCALENDAR